BEGIN:VCALENDAR
VERSION:2.0
PRODID:-//Federation of Model Engineering Societies - ECPv6.15.20//NONSGML v1.0//EN
CALSCALE:GREGORIAN
METHOD:PUBLISH
X-WR-CALNAME:Federation of Model Engineering Societies
X-ORIGINAL-URL:https://fmes.org.uk
X-WR-CALDESC:Events for Federation of Model Engineering Societies
REFRESH-INTERVAL;VALUE=DURATION:PT1H
X-Robots-Tag:noindex
X-PUBLISHED-TTL:PT1H
BEGIN:VTIMEZONE
TZID:UTC
BEGIN:STANDARD
TZOFFSETFROM:+0000
TZOFFSETTO:+0000
TZNAME:UTC
DTSTART:20250101T000000
END:STANDARD
END:VTIMEZONE
BEGIN:VEVENT
DTSTART;TZID=UTC:20260711T100000
DTEND;TZID=UTC:20260711T170000
DTSTAMP:20260420T014859
CREATED:20260214T153855Z
LAST-MODIFIED:20260214T153855Z
UID:263329-1783764000-1783789200@fmes.org.uk
SUMMARY:Tonbridge MES Open Day
DESCRIPTION:3-1/2 and 5 inch track\,  refreshments throughout the day\, including a BBQ at lunch time. \nPlease bring boiler and insurance certificates if you are bringing a loco
URL:https://fmes.org.uk/event/tonbridge-mes-open-day/
LOCATION:Tonbridge Model Engineering Society\, The Slade\, Tonbridge\, Kent\, TN9 1HR\, United Kingdom
ORGANIZER;CN="Colin Harwood (Tonbridge MES)":MAILTO:tonbridgemes@gmail.com
END:VEVENT
BEGIN:VEVENT
DTSTART;TZID=UTC:20261114T100000
DTEND;TZID=UTC:20261114T170000
DTSTAMP:20260420T014859
CREATED:20260221T114116Z
LAST-MODIFIED:20260221T114116Z
UID:263345-1794650400-1794675600@fmes.org.uk
SUMMARY:Seminar for Boiler Inspectors - Autumn 2026
DESCRIPTION:The Autumn 2026 Seminar for Boiler Inspectors will be held on Saturday 14th November \nKindly hosted by Leyland Society Of Model Engineering at their base in Worden Park\, Leyland. \nThe seminar is jointly sponsored by FMES and NAME for members of affiliated clubs and societies. \nPlaces are limited to 40 and pre-booking is essential. \nPlease send you expression of interest to attend to the organiser – details below.
URL:https://fmes.org.uk/event/seminar-for-boiler-inspectors-autumn-2026/
LOCATION:Leyland Society Of Model Engineering\, Worden Park\,\, Leyland\, PR25 1DJ\, United Kingdom
ORGANIZER;CN="Delegate Co-Ordinator":MAILTO:boilerseminarbooking@gmail.com
END:VEVENT
END:VCALENDAR