BEGIN:VCALENDAR
VERSION:2.0
PRODID:-//Federation of Model Engineering Societies - ECPv6.15.20//NONSGML v1.0//EN
CALSCALE:GREGORIAN
METHOD:PUBLISH
X-WR-CALNAME:Federation of Model Engineering Societies
X-ORIGINAL-URL:https://fmes.org.uk
X-WR-CALDESC:Events for Federation of Model Engineering Societies
REFRESH-INTERVAL;VALUE=DURATION:PT1H
X-Robots-Tag:noindex
X-PUBLISHED-TTL:PT1H
BEGIN:VTIMEZONE
TZID:UTC
BEGIN:STANDARD
TZOFFSETFROM:+0000
TZOFFSETTO:+0000
TZNAME:UTC
DTSTART:20250101T000000
END:STANDARD
END:VTIMEZONE
BEGIN:VEVENT
DTSTART;TZID=UTC:20260425T100000
DTEND;TZID=UTC:20260425T170000
DTSTAMP:20260420T020354
CREATED:20260221T113927Z
LAST-MODIFIED:20260221T114048Z
UID:263342-1777111200-1777136400@fmes.org.uk
SUMMARY:Seminar for Boiler Inspectors - 25th April 2026
DESCRIPTION:The Spring 2026 Seminar for Boiler Inspectors will be held on Saturday 25th April \nKindly hosted by Bedford Model Engineering Society at their base at the Summerfields Miniature Railway \nThe seminar is jointly sponsored by FMES and NAME for members of affiliated clubs and societies. \nPlaces are limited to 40 and pre-booking is essential. \nPlease send you expression of interest to attend to the organiser – details below.
URL:https://fmes.org.uk/event/seminar-for-boiler-inspectors-25th-april-2026/
LOCATION:Bedford Model Engineering Society\, Summerfields’ Miniature Railways\, Summerfield Barns\, High Road\, Haynes\, Bedford\, MK45 3BH\, United Kingdom
ORGANIZER;CN="Delegate Co-Ordinator":MAILTO:boilerseminarbooking@gmail.com
END:VEVENT
END:VCALENDAR